{
 "currentVersion": 10.91,
 "serviceDescription": "100_sip-nr2/Sentinel2_Kagoshima",
 "name": "100_sip-nr2/Sentinel2_Kagoshima",
 "description": "",
 "extent": {
  "xmin": 599955,
  "ymin": 3490245,
  "xmax": 709755,
  "ymax": 3600045,
  "spatialReference": {
   "wkid": 32652,
   "latestWkid": 32652
  }
 },
 "initialExtent": {
  "xmin": 599955,
  "ymin": 3490245,
  "xmax": 709755,
  "ymax": 3600045,
  "spatialReference": {
   "wkid": 32652,
   "latestWkid": 32652
  }
 },
 "fullExtent": {
  "xmin": 599955,
  "ymin": 3490245,
  "xmax": 709755,
  "ymax": 3600045,
  "spatialReference": {
   "wkid": 32652,
   "latestWkid": 32652
  }
 },
 "hasMultidimensions": false,
 "pixelSizeX": 100,
 "pixelSizeY": 100,
 "datasetFormat": "TIFF",
 "uncompressedSize": 3616812,
 "blockWidth": 1098,
 "blockHeight": 1,
 "compressionType": "None",
 "bandNames": [
  "Band_1",
  "Band_2",
  "Band_3"
 ],
 "allowCopy": true,
 "allowAnalysis": true,
 "bandCount": 3,
 "pixelType": "U8",
 "minPixelSize": 0,
 "maxPixelSize": 0,
 "copyrightText": "",
 "serviceDataType": "esriImageServiceDataTypeRGB",
 "serviceSourceType": "esriImageServiceSourceTypeDataset",
 "minValues": [],
 "maxValues": [],
 "meanValues": [],
 "stdvValues": [],
 "objectIdField": "",
 "fields": [],
 "capabilities": "Image,Metadata,Mensuration",
 "defaultMosaicMethod": "Center",
 "allowedMosaicMethods": "",
 "sortField": "",
 "sortValue": null,
 "sortAscending": true,
 "mosaicOperator": "First",
 "defaultCompressionQuality": 75,
 "defaultResamplingMethod": "Bilinear",
 "maxImageHeight": 4100,
 "maxImageWidth": 15000,
 "allowRasterFunction": true,
 "rasterFunctionInfos": [
  {
   "name": "None",
   "description": "",
   "help": ""
  }
 ],
 "rasterTypeInfos": [
  {
   "name": "Raster Dataset",
   "description": "すべての ArcGIS ラスター データセットをサポートします。",
   "help": ""
  }
 ],
 "mensurationCapabilities": "Basic",
 "hasHistograms": false,
 "hasColormap": false,
 "hasRasterAttributeTable": false,
 "minScale": 0,
 "maxScale": 0,
 "exportTilesAllowed": false,
 "supportsStatistics": false,
 "supportsAdvancedQueries": false,
 "editFieldsInfo": null,
 "ownershipBasedAccessControlForRasters": null,
 "allowComputeTiePoints": false,
 "useStandardizedQueries": true,
 "advancedQueryCapabilities": {
  "useStandardizedQueries": true,
  "supportsStatistics": false,
  "supportsOrderBy": false,
  "supportsDistinct": false,
  "supportsPagination": false
 },
 "spatialReference": {
  "wkid": 32652,
  "latestWkid": 32652
 }
}
