{
 "currentVersion": 10.91,
 "serviceDescription": "20180308_JAXATEST/PRD_RGB_20170917_001_0000159796_tif",
 "name": "20180308_JAXATEST/PRD_RGB_20170917_001_0000159796_tif",
 "description": "",
 "extent": {
  "xmin": 652237.619030511,
  "ymin": 3643279.72378403,
  "xmax": 711300.119030511,
  "ymax": 3716582.84878403,
  "spatialReference": {
   "wkt": "PROJCS[\"Geo_coded\",GEOGCS[\"GCS_Datum_ITRF97_Ellipsoid_GRS80_Projection_UTM\",DATUM[\"D_ITRF_1997\",SPHEROID[\"GRS_1980\",6378137.0,298.257222101]],PRIMEM[\"Greenwich\",0.0],UNIT[\"Degree\",0.0174532925199433]],PROJECTION[\"Transverse_Mercator\"],PARAMETER[\"false_easting\",500000.0],PARAMETER[\"false_northing\",0.0],PARAMETER[\"central_meridian\",129.0],PARAMETER[\"scale_factor\",0.9996],PARAMETER[\"latitude_of_origin\",0.0],UNIT[\"Meter\",1.0]]"
  }
 },
 "initialExtent": {
  "xmin": 652237.619030511,
  "ymin": 3643279.72378403,
  "xmax": 711300.119030511,
  "ymax": 3716582.84878403,
  "spatialReference": {
   "wkt": "PROJCS[\"Geo_coded\",GEOGCS[\"GCS_Datum_ITRF97_Ellipsoid_GRS80_Projection_UTM\",DATUM[\"D_ITRF_1997\",SPHEROID[\"GRS_1980\",6378137.0,298.257222101]],PRIMEM[\"Greenwich\",0.0],UNIT[\"Degree\",0.0174532925199433]],PROJECTION[\"Transverse_Mercator\"],PARAMETER[\"false_easting\",500000.0],PARAMETER[\"false_northing\",0.0],PARAMETER[\"central_meridian\",129.0],PARAMETER[\"scale_factor\",0.9996],PARAMETER[\"latitude_of_origin\",0.0],UNIT[\"Meter\",1.0]]"
  }
 },
 "fullExtent": {
  "xmin": 652237.619030511,
  "ymin": 3643279.72378403,
  "xmax": 711300.119030511,
  "ymax": 3716582.84878403,
  "spatialReference": {
   "wkt": "PROJCS[\"Geo_coded\",GEOGCS[\"GCS_Datum_ITRF97_Ellipsoid_GRS80_Projection_UTM\",DATUM[\"D_ITRF_1997\",SPHEROID[\"GRS_1980\",6378137.0,298.257222101]],PRIMEM[\"Greenwich\",0.0],UNIT[\"Degree\",0.0174532925199433]],PROJECTION[\"Transverse_Mercator\"],PARAMETER[\"false_easting\",500000.0],PARAMETER[\"false_northing\",0.0],PARAMETER[\"central_meridian\",129.0],PARAMETER[\"scale_factor\",0.9996],PARAMETER[\"latitude_of_origin\",0.0],UNIT[\"Meter\",1.0]]"
  }
 },
 "hasMultidimensions": false,
 "pixelSizeX": 3.125,
 "pixelSizeY": 3.125,
 "datasetFormat": "TIFF",
 "uncompressedSize": 1330011900,
 "blockWidth": 18900,
 "blockHeight": 1,
 "compressionType": "None",
 "bandNames": [
  "Band_1",
  "Band_2",
  "Band_3"
 ],
 "allowCopy": true,
 "allowAnalysis": true,
 "bandCount": 3,
 "pixelType": "U8",
 "minPixelSize": 0,
 "maxPixelSize": 0,
 "copyrightText": "",
 "serviceDataType": "esriImageServiceDataTypeRGB",
 "serviceSourceType": "esriImageServiceSourceTypeDataset",
 "minValues": [],
 "maxValues": [],
 "meanValues": [],
 "stdvValues": [],
 "objectIdField": "",
 "fields": [],
 "capabilities": "Image,Metadata,Mensuration",
 "defaultMosaicMethod": "Center",
 "allowedMosaicMethods": "",
 "sortField": "",
 "sortValue": null,
 "sortAscending": true,
 "mosaicOperator": "First",
 "defaultCompressionQuality": 75,
 "defaultResamplingMethod": "Bilinear",
 "maxImageHeight": 4100,
 "maxImageWidth": 15000,
 "allowRasterFunction": true,
 "rasterFunctionInfos": [
  {
   "name": "None",
   "description": "",
   "help": ""
  }
 ],
 "rasterTypeInfos": [
  {
   "name": "Raster Dataset",
   "description": "すべての ArcGIS ラスター データセットをサポートします。",
   "help": ""
  }
 ],
 "mensurationCapabilities": "Basic",
 "hasHistograms": false,
 "hasColormap": false,
 "hasRasterAttributeTable": false,
 "minScale": 0,
 "maxScale": 0,
 "exportTilesAllowed": false,
 "supportsStatistics": false,
 "supportsAdvancedQueries": false,
 "editFieldsInfo": null,
 "ownershipBasedAccessControlForRasters": null,
 "allowComputeTiePoints": false,
 "useStandardizedQueries": true,
 "advancedQueryCapabilities": {
  "useStandardizedQueries": true,
  "supportsStatistics": false,
  "supportsOrderBy": false,
  "supportsDistinct": false,
  "supportsPagination": false
 },
 "spatialReference": {
  "wkt": "PROJCS[\"Geo_coded\",GEOGCS[\"GCS_Datum_ITRF97_Ellipsoid_GRS80_Projection_UTM\",DATUM[\"D_ITRF_1997\",SPHEROID[\"GRS_1980\",6378137.0,298.257222101]],PRIMEM[\"Greenwich\",0.0],UNIT[\"Degree\",0.0174532925199433]],PROJECTION[\"Transverse_Mercator\"],PARAMETER[\"false_easting\",500000.0],PARAMETER[\"false_northing\",0.0],PARAMETER[\"central_meridian\",129.0],PARAMETER[\"scale_factor\",0.9996],PARAMETER[\"latitude_of_origin\",0.0],UNIT[\"Meter\",1.0]]"
 }
}
