View In:
ArcGIS JavaScript
ArcGIS Online Map Viewer
ArcGIS Earth
ArcMap
View Footprint In:
ArcGIS Online Map Viewer
Service Description: 201801kusatsushirane/kusatsushirane_20180128_tif
Name: 201801kusatsushirane/kusatsushirane_20180128_tif
Description:
Single Fused Map Cache: false
Extent:
XMin: 1.5418510153473094E7
YMin: 4384357.570675378
XMax: 1.5425468064750064E7
YMax: 4390137.142451003
Spatial Reference: 102100
(3857)
LatestVCSWkid(0)
Initial Extent:
XMin: 1.5418510153473094E7
YMin: 4384357.570675378
XMax: 1.5425468064750064E7
YMax: 4390137.142451003
Spatial Reference: 102100
(3857)
LatestVCSWkid(0)
Full Extent:
XMin: 1.5418510153473094E7
YMin: 4384357.570675378
XMax: 1.5425468064750064E7
YMax: 4390137.142451003
Spatial Reference: 102100
(3857)
LatestVCSWkid(0)
Pixel Size X: 1.0193248281526601
Pixel Size Y: 1.0193248281526384
Band Count: 3
Pixel Type: U8
RasterFunction Infos: {"rasterFunctionInfos": [{
"name": "None",
"description": "",
"help": ""
}]}
Mensuration Capabilities: Basic
Has Histograms: true
Has Colormap: false
Has Multi Dimensions : false
Rendering Rule:
Min Scale: 0
Max Scale: 0
Copyright Text:
Service Data Type: esriImageServiceDataTypeRGB
Min Values: 0, 0, 0
Max Values: 255, 255, 255
Mean Values: 115.98023458906, 117.5489154447, 120.30750057751
Standard Deviation Values: 89.503072187191, 89.944598742372, 89.673488304747
Object ID Field:
Fields:
None
Default Mosaic Method: Center
Allowed Mosaic Methods:
SortField:
SortValue: null
Mosaic Operator: First
Default Compression Quality: 75
Default Resampling Method: Bilinear
Max Record Count: null
Max Image Height: 4100
Max Image Width: 15000
Max Download Image Count: null
Max Mosaic Image Count: null
Allow Raster Function: true
Allow Copy: true
Allow Analysis: true
Allow Compute TiePoints: false
Supports Statistics: false
Supports Advanced Queries: false
Use StandardizedQueries: true
Raster Type Infos:
Name: Raster Dataset
Description: すべての ArcGIS ラスター データセットをサポートします。
Help:
Has Raster Attribute Table: false
Edit Fields Info: null
Ownership Based AccessControl For Rasters: null
Child Resources:
Info
Histograms
Statistics
Key Properties
Legend
Raster Function Infos
Supported Operations:
Export Image
Identify
Measure
Compute Histograms
Compute Statistics Histograms
Get Samples
Compute Class Statistics
Query Boundary
Compute Pixel Location
Compute Angles
Validate
Project