View In:
ArcGIS JavaScript
ArcGIS Online Map Viewer
ArcGIS Earth
ArcMap
View Footprint In:
ArcGIS Online Map Viewer
Service Description: Recovered by Script V6
Name: dep_shakai/20170713haki_1st_webmercator_tif
Description:
Single Fused Map Cache: false
Extent:
XMin: 1.4563018056560548E7
YMin: 3942689.177792304
XMax: 1.456357123287309E7
YMax: 3943319.9295725846
Spatial Reference: 102100
(3857)
LatestVCSWkid(0)
Initial Extent:
XMin: 1.4563018056560548E7
YMin: 3942689.177792304
XMax: 1.456357123287309E7
YMax: 3943319.9295725846
Spatial Reference: 102100
(3857)
LatestVCSWkid(0)
Full Extent:
XMin: 1.4563018056560548E7
YMin: 3942689.177792304
XMax: 1.456357123287309E7
YMax: 3943319.9295725846
Spatial Reference: 102100
(3857)
LatestVCSWkid(0)
Pixel Size X: 0.06140263209474849
Pixel Size Y: 0.051527798405389895
Band Count: 4
Pixel Type: U8
RasterFunction Infos: {"rasterFunctionInfos": [{
"name": "None",
"description": "",
"help": ""
}]}
Mensuration Capabilities:
Has Histograms: true
Has Colormap: false
Has Multi Dimensions : false
Rendering Rule:
Min Scale: 0
Max Scale: 0
Copyright Text:
Service Data Type: esriImageServiceDataTypeGeneric
Min Values: 0, 0, 0, 0
Max Values: 255, 255, 255, 255
Mean Values: 64.725033120241, 69.332344343236, 52.475682139027, 132.45454882784
Standard Deviation Values: 74.489617515083, 74.502250660886, 64.240500268857, 127.40369929128
Object ID Field:
Fields:
None
Default Mosaic Method: Center
Allowed Mosaic Methods:
SortField:
SortValue: null
Mosaic Operator: First
Default Compression Quality: 75
Default Resampling Method: Bilinear
Max Record Count: null
Max Image Height: -1
Max Image Width: -1
Max Download Image Count: null
Max Mosaic Image Count: null
Allow Raster Function: true
Allow Copy: true
Allow Analysis: true
Allow Compute TiePoints: false
Supports Statistics: false
Supports Advanced Queries: false
Use StandardizedQueries: true
Raster Type Infos:
Name: Raster Dataset
Description: すべての ArcGIS ラスター データセットをサポートします。
Help:
Has Raster Attribute Table: false
Edit Fields Info: null
Ownership Based AccessControl For Rasters: null
Child Resources:
Info
Histograms
Statistics
Key Properties
Legend
Raster Function Infos
Supported Operations:
Export Image
Identify
Measure
Compute Histograms
Compute Statistics Histograms
Get Samples
Compute Class Statistics
Query Boundary
Compute Pixel Location
Compute Angles
Validate
Project