View In:
ArcGIS JavaScript
ArcGIS Online Map Viewer
ArcGIS Earth
ArcMap
View Footprint In:
ArcGIS Online Map Viewer
Service Description: Recovered by Script V6
Name: ortho_251009/MizunashiRiver_ProjectRaster
Description:
Single Fused Map Cache: false
Extent:
XMin: 1.4509591687557062E7
YMin: 3861517.0289236177
XMax: 1.4510874075417062E7
YMax: 3862379.160973618
Spatial Reference: 102100
(3857)
LatestVCSWkid(0)
Initial Extent:
XMin: 1.4509591687557062E7
YMin: 3861517.0289236177
XMax: 1.4510874075417062E7
YMax: 3862379.160973618
Spatial Reference: 102100
(3857)
LatestVCSWkid(0)
Full Extent:
XMin: 1.4509591687557062E7
YMin: 3861517.0289236177
XMax: 1.4510874075417062E7
YMax: 3862379.160973618
Spatial Reference: 102100
(3857)
LatestVCSWkid(0)
Pixel Size X: 0.01989000000000207
Pixel Size Y: 0.019890000000003027
Band Count: 4
Pixel Type: U8
RasterFunction Infos: {"rasterFunctionInfos": [{
"name": "None",
"description": "",
"help": ""
}]}
Mensuration Capabilities:
Has Histograms: true
Has Colormap: false
Has Multi Dimensions : false
Rendering Rule:
Min Scale: 0
Max Scale: 0
Copyright Text:
Service Data Type: esriImageServiceDataTypeGeneric
Min Values: 0, 0, 0, 0
Max Values: 255, 255, 255, 255
Mean Values: 97.20724306969592, 106.3425697034065, 85.00351206551036, 199.02170537281148
Standard Deviation Values: 65.3594696751718, 68.08085924711301, 61.58934746521898, 105.54876105320288
Object ID Field:
Fields:
None
Default Mosaic Method: Center
Allowed Mosaic Methods:
SortField:
SortValue: null
Mosaic Operator: First
Default Compression Quality: 75
Default Resampling Method: Bilinear
Max Record Count: null
Max Image Height: -1
Max Image Width: -1
Max Download Image Count: null
Max Mosaic Image Count: null
Allow Raster Function: true
Allow Copy: true
Allow Analysis: true
Allow Compute TiePoints: false
Supports Statistics: false
Supports Advanced Queries: false
Use StandardizedQueries: true
Raster Type Infos:
Name: Raster Dataset
Description: すべての ArcGIS ラスター データセットをサポートします。
Help:
Has Raster Attribute Table: false
Edit Fields Info: null
Ownership Based AccessControl For Rasters: null
Child Resources:
Info
Histograms
Statistics
Key Properties
Legend
Raster Function Infos
Supported Operations:
Export Image
Identify
Measure
Compute Histograms
Compute Statistics Histograms
Get Samples
Compute Class Statistics
Query Boundary
Compute Pixel Location
Compute Angles
Validate
Project